BEGIN:VCALENDAR
VERSION:2.0
PRODID:-//Story Arte - ECPv6.15.20//NONSGML v1.0//EN
CALSCALE:GREGORIAN
METHOD:PUBLISH
X-WR-CALNAME:Story Arte
X-ORIGINAL-URL:https://www.storyarte.com
X-WR-CALDESC:Eventos para Story Arte
REFRESH-INTERVAL;VALUE=DURATION:PT1H
X-Robots-Tag:noindex
X-PUBLISHED-TTL:PT1H
BEGIN:VTIMEZONE
TZID:Europe/Madrid
BEGIN:DAYLIGHT
TZOFFSETFROM:+0100
TZOFFSETTO:+0200
TZNAME:CEST
DTSTART:20240331T010000
END:DAYLIGHT
BEGIN:STANDARD
TZOFFSETFROM:+0200
TZOFFSETTO:+0100
TZNAME:CET
DTSTART:20241027T010000
END:STANDARD
BEGIN:DAYLIGHT
TZOFFSETFROM:+0100
TZOFFSETTO:+0200
TZNAME:CEST
DTSTART:20250330T010000
END:DAYLIGHT
BEGIN:STANDARD
TZOFFSETFROM:+0200
TZOFFSETTO:+0100
TZNAME:CET
DTSTART:20251026T010000
END:STANDARD
BEGIN:DAYLIGHT
TZOFFSETFROM:+0100
TZOFFSETTO:+0200
TZNAME:CEST
DTSTART:20260329T010000
END:DAYLIGHT
BEGIN:STANDARD
TZOFFSETFROM:+0200
TZOFFSETTO:+0100
TZNAME:CET
DTSTART:20261025T010000
END:STANDARD
END:VTIMEZONE
BEGIN:VEVENT
DTSTART;TZID=Europe/Madrid:20250928T173000
DTEND;TZID=Europe/Madrid:20250928T203000
DTSTAMP:20260424T054750
CREATED:20251108T180709Z
LAST-MODIFIED:20251108T180709Z
UID:6034-1759080600-1759091400@www.storyarte.com
SUMMARY:Arte por Palestina
DESCRIPTION:Estaré contando historias\, junto con otros artistas\, para ayudar a crear conciencia y recaudar fondos para la difícil situación del pueblo palestino en este momento tan oscuro. \n✨ Las historias nos han acompañado desde los inicios de la humanidad y nos han ayudado a superar tiempos oscuros de guerras y plagas. \nI will be telling stories along with other artists to help raise awareness and funds for the plight of the Palestinian people in this very dark moment. \n✨ Stories have been with us since the beginning of humanity and have helped us through dark times of wars and plagues. \n📍 L’Abellugu Chigre Musical\n📅 Domingo 28 de Septiembre de 2025\n⏰ 17:30 CET
URL:https://www.storyarte.com/event/arte-por-palestina-20250928/
LOCATION:L’Abellugu Chigre Musical\, Calle Ramón y Cajal\, 13\, Mieres\, Asturias\, 33600
CATEGORIES:Sesión de Narración Oral,Storytelling Session
ATTACH;FMTTYPE=image/webp:https://www.storyarte.com/wp-content/uploads/2025/11/Arte_por_Palestina_20250928_427x562.webp
END:VEVENT
END:VCALENDAR