BEGIN:VCALENDAR
VERSION:2.0
PRODID:-//Story Arte - ECPv6.15.20//NONSGML v1.0//EN
CALSCALE:GREGORIAN
METHOD:PUBLISH
X-WR-CALNAME:Story Arte
X-ORIGINAL-URL:https://www.storyarte.com
X-WR-CALDESC:Eventos para Story Arte
REFRESH-INTERVAL;VALUE=DURATION:PT1H
X-Robots-Tag:noindex
X-PUBLISHED-TTL:PT1H
BEGIN:VTIMEZONE
TZID:Europe/Madrid
BEGIN:DAYLIGHT
TZOFFSETFROM:+0100
TZOFFSETTO:+0200
TZNAME:CEST
DTSTART:20240331T010000
END:DAYLIGHT
BEGIN:STANDARD
TZOFFSETFROM:+0200
TZOFFSETTO:+0100
TZNAME:CET
DTSTART:20241027T010000
END:STANDARD
BEGIN:DAYLIGHT
TZOFFSETFROM:+0100
TZOFFSETTO:+0200
TZNAME:CEST
DTSTART:20250330T010000
END:DAYLIGHT
BEGIN:STANDARD
TZOFFSETFROM:+0200
TZOFFSETTO:+0100
TZNAME:CET
DTSTART:20251026T010000
END:STANDARD
BEGIN:DAYLIGHT
TZOFFSETFROM:+0100
TZOFFSETTO:+0200
TZNAME:CEST
DTSTART:20260329T010000
END:DAYLIGHT
BEGIN:STANDARD
TZOFFSETFROM:+0200
TZOFFSETTO:+0100
TZNAME:CET
DTSTART:20261025T010000
END:STANDARD
END:VTIMEZONE
BEGIN:VEVENT
DTSTART;TZID=Europe/Madrid:20250510T113000
DTEND;TZID=Europe/Madrid:20250510T130000
DTSTAMP:20260424T054750
CREATED:20251109T074101Z
LAST-MODIFIED:20251109T074101Z
UID:6067-1746876600-1746882000@www.storyarte.com
SUMMARY:El Árbol de los Recuerdos en Espacio Imala
DESCRIPTION:📍 Imala Espacio Creativo\n📅 Sábado 10 de Mayo de 2025\n⏰ 11:30 to 13:00 CEST\n🧑‍🧑‍🧒‍🧒 Público Familiar\nℹ️ El Árbol de los Recuerdos\, un taller familiar de cuentos\, canciones y creatividad para hablar de la muerte con los más peques. \nEn este taller Jennifer Ramsay e Isabel Mochales plantean acercar la temática de la muerte a niños y niñas de manera suave\, lúdica y sensible\, mediante la narración oral\, la música\, la interacción\, el compartir grupal y la escucha. En un clima de confianza compartiremos experiencias\, emociones y dudas acerca de la muerte. Habrá un espacio para expresarse sobre alguna pérdida personal en una ‘hoja de un árbol simbólico\, que crecerá con creatividad\, color y amor para formar parte del bosque de la vida.
URL:https://www.storyarte.com/event/el-arbol-de-los-recuerdos-en-espacio-imala/
LOCATION:Imala Espacio Creativo\, Calle Puerto Pajares\, 1\, Lugones\, Asturias\, 33420\, Spain
CATEGORIES:Face-to-face Workshop,Taller Presencial
ATTACH;FMTTYPE=image/webp:https://www.storyarte.com/wp-content/uploads/2025/11/El_Arbol_de_los_Recuerdos_20250510_427x534.webp
ORGANIZER;CN="Jennier Ramsay e Isabel Mochales":MAILTO:info@storyarte.com
END:VEVENT
END:VCALENDAR