BEGIN:VCALENDAR
VERSION:2.0
PRODID:-//Story Arte - ECPv6.15.20//NONSGML v1.0//EN
CALSCALE:GREGORIAN
METHOD:PUBLISH
X-WR-CALNAME:Story Arte
X-ORIGINAL-URL:https://www.storyarte.com
X-WR-CALDESC:Eventos para Story Arte
REFRESH-INTERVAL;VALUE=DURATION:PT1H
X-Robots-Tag:noindex
X-PUBLISHED-TTL:PT1H
BEGIN:VTIMEZONE
TZID:Europe/Madrid
BEGIN:DAYLIGHT
TZOFFSETFROM:+0100
TZOFFSETTO:+0200
TZNAME:CEST
DTSTART:20240331T010000
END:DAYLIGHT
BEGIN:STANDARD
TZOFFSETFROM:+0200
TZOFFSETTO:+0100
TZNAME:CET
DTSTART:20241027T010000
END:STANDARD
BEGIN:DAYLIGHT
TZOFFSETFROM:+0100
TZOFFSETTO:+0200
TZNAME:CEST
DTSTART:20250330T010000
END:DAYLIGHT
BEGIN:STANDARD
TZOFFSETFROM:+0200
TZOFFSETTO:+0100
TZNAME:CET
DTSTART:20251026T010000
END:STANDARD
BEGIN:DAYLIGHT
TZOFFSETFROM:+0100
TZOFFSETTO:+0200
TZNAME:CEST
DTSTART:20260329T010000
END:DAYLIGHT
BEGIN:STANDARD
TZOFFSETFROM:+0200
TZOFFSETTO:+0100
TZNAME:CET
DTSTART:20261025T010000
END:STANDARD
END:VTIMEZONE
BEGIN:VEVENT
DTSTART;VALUE=DATE:20251128
DTEND;VALUE=DATE:20251129
DTSTAMP:20260424T042004
CREATED:20251224T115743Z
LAST-MODIFIED:20251224T115743Z
UID:6117-1764288000-1764374399@www.storyarte.com
SUMMARY:Free the Bee - Cuentos para Palestina - Colegios Rurales de Ceceda\, Torazo y Santolaya
DESCRIPTION:📅 28 de Noviembre de 2025\n📍 CRA La Coroña – Escuela de Ceceda\, Nava\, Asturias\n🧑‍🧑‍🧒‍🧒 Colegios Rurales de Ceceda\, Torazo y Santolaya\, Asturias \nConmemoramos el Día Internacional de Solidaridad con el Pueblo Palestino con cuentos populares de Palestina 🍉 \nAdemás\, conoceremos la historia «Free the Bee»\, creada por Mena\, de Gaza\, cuando solo tenía 9 años.
URL:https://www.storyarte.com/event/free-the-bee-cuentos-por-palestina-20251128/
LOCATION:CRA (Centro Rural Agrupado) La Coroña\, Ceceda\, Nava\, Asturias\, Campu La Iglesia\, s/n\, Ceceda\, Nava\, Asturias\, 33582\, Spain
CATEGORIES:Sesión de Narración Oral,Storytelling Session
ATTACH;FMTTYPE=image/webp:https://www.storyarte.com/wp-content/uploads/2025/12/Free_the_Bee_Cuentos_para_Palestina_427x534.webp
ORGANIZER;CN="Jennifer Ramsay":MAILTO:info@storyarte.com
END:VEVENT
END:VCALENDAR