BEGIN:VCALENDAR
VERSION:2.0
PRODID:-//Story Arte - ECPv6.15.20//NONSGML v1.0//EN
CALSCALE:GREGORIAN
METHOD:PUBLISH
X-WR-CALNAME:Story Arte
X-ORIGINAL-URL:https://www.storyarte.com
X-WR-CALDESC:Eventos para Story Arte
REFRESH-INTERVAL;VALUE=DURATION:PT1H
X-Robots-Tag:noindex
X-PUBLISHED-TTL:PT1H
BEGIN:VTIMEZONE
TZID:Europe/Madrid
BEGIN:DAYLIGHT
TZOFFSETFROM:+0100
TZOFFSETTO:+0200
TZNAME:CEST
DTSTART:20240331T010000
END:DAYLIGHT
BEGIN:STANDARD
TZOFFSETFROM:+0200
TZOFFSETTO:+0100
TZNAME:CET
DTSTART:20241027T010000
END:STANDARD
BEGIN:DAYLIGHT
TZOFFSETFROM:+0100
TZOFFSETTO:+0200
TZNAME:CEST
DTSTART:20250330T010000
END:DAYLIGHT
BEGIN:STANDARD
TZOFFSETFROM:+0200
TZOFFSETTO:+0100
TZNAME:CET
DTSTART:20251026T010000
END:STANDARD
BEGIN:DAYLIGHT
TZOFFSETFROM:+0100
TZOFFSETTO:+0200
TZNAME:CEST
DTSTART:20260329T010000
END:DAYLIGHT
BEGIN:STANDARD
TZOFFSETFROM:+0200
TZOFFSETTO:+0100
TZNAME:CET
DTSTART:20261025T010000
END:STANDARD
END:VTIMEZONE
BEGIN:VEVENT
DTSTART;TZID=Europe/Madrid:20250913T170000
DTEND;TZID=Europe/Madrid:20250913T171500
DTSTAMP:20260424T054140
CREATED:20251108T212539Z
LAST-MODIFIED:20251108T212539Z
UID:6045-1757782800-1757783700@www.storyarte.com
SUMMARY:La Canción de la Rana (Cuento Sensorial)
DESCRIPTION:Jennifer Ramsay colabora con el Festival Anima Mundi 2025. \n🐸 Croac\, croac\, ¡una pequeña rana necesita ayuda! En el tipi de los cuentos vamos a embarcarnos en un viaje sensorial con la ranita y sus amigos\, para traer lluvia a la tierra en la temporada de otoño que nos aguarda. \n📍 Festival Anima Mundi 2025\n📅 Sábado 13 de Septiembre de 2025\n⏰ 17:00 CEST
URL:https://www.storyarte.com/event/la-cancion-de-la-rana-cuento-sensorial/
LOCATION:Santolaya de Cabranes\, Santolaya de Cabranes\, Asturias\, 33310\, Spain
CATEGORIES:Sesión de Narración Oral,Storytelling Session
ATTACH;FMTTYPE=image/webp:https://www.storyarte.com/wp-content/uploads/2025/11/Anima_Mundi_Cuentos_Sensoriales_2025_427x534.webp
ORGANIZER;CN="Asociaci%C3%B3n Anima Mundi Asturias":MAILTO:info@animamundiasturias.org
END:VEVENT
END:VCALENDAR