BEGIN:VCALENDAR
VERSION:2.0
PRODID:-//Story Arte - ECPv6.15.20//NONSGML v1.0//EN
CALSCALE:GREGORIAN
METHOD:PUBLISH
X-WR-CALNAME:Story Arte
X-ORIGINAL-URL:https://www.storyarte.com
X-WR-CALDESC:Eventos para Story Arte
REFRESH-INTERVAL;VALUE=DURATION:PT1H
X-Robots-Tag:noindex
X-PUBLISHED-TTL:PT1H
BEGIN:VTIMEZONE
TZID:Europe/Madrid
BEGIN:DAYLIGHT
TZOFFSETFROM:+0100
TZOFFSETTO:+0200
TZNAME:CEST
DTSTART:20240331T010000
END:DAYLIGHT
BEGIN:STANDARD
TZOFFSETFROM:+0200
TZOFFSETTO:+0100
TZNAME:CET
DTSTART:20241027T010000
END:STANDARD
BEGIN:DAYLIGHT
TZOFFSETFROM:+0100
TZOFFSETTO:+0200
TZNAME:CEST
DTSTART:20250330T010000
END:DAYLIGHT
BEGIN:STANDARD
TZOFFSETFROM:+0200
TZOFFSETTO:+0100
TZNAME:CET
DTSTART:20251026T010000
END:STANDARD
BEGIN:DAYLIGHT
TZOFFSETFROM:+0100
TZOFFSETTO:+0200
TZNAME:CEST
DTSTART:20260329T010000
END:DAYLIGHT
BEGIN:STANDARD
TZOFFSETFROM:+0200
TZOFFSETTO:+0100
TZNAME:CET
DTSTART:20261025T010000
END:STANDARD
END:VTIMEZONE
BEGIN:VEVENT
DTSTART;TZID=Europe/Madrid:20251121T140000
DTEND;TZID=Europe/Madrid:20251121T160000
DTSTAMP:20260424T042259
CREATED:20251108T151803Z
LAST-MODIFIED:20251108T151858Z
UID:5993-1763733600-1763740800@www.storyarte.com
SUMMARY:Sedna: Fairy Tales and Myths for Challenging Times
DESCRIPTION:Sedna: Fairy Tales and Myths for Challenging Times \n🐳 In this interactive workshop\, we dive deep into the Inuit creation myth of Sedna\, to see what is waiting to be revealed in the depths of the ocean. \n🧜‍♀️ Sedna\, the goddess of the sea and marine animals in Inuit mythology\, is known as the «Mother of the Sea» and it said to control the supply of sea animals\, which are essential for the survival of the Inuit people. We will explore the story using tools from the Story Arte creative toolbox like Gestalt therapy\, expressive arts therapies and psychodrama. \n🌊 As we swim alongside Sedna in her watery world\, we will discover how this myth of creation resonates with us in these uncertain times and connects us to the future of the oceans of the world. \n🌙 We will also take into consideration the planetary configuration of the dwarf planet Sedna and do a new Moon ritual to seed our dreams for 2026. \n🔥 Stories have been with us since the very beginning of humanity when we gathered around the fire to listen to myths of creation to connect us with our inner selves\, our clan and the universe. \n📅 Friday November 21st\, 2025\n⏰ 14:00 to 16:00 (CET) / 13:00 to 15:00 (UK time)\n🏠 Online\n🧑‍🧑‍🧒‍🧒 This workshop is experiential\, and participants will be invited to explore the story in depth and engage actively in the creative activities. Please have some paper and something to write and draw with handy.
URL:https://www.storyarte.com/event/sedna-fairy-tales-and-myths-for-challenging-times/
LOCATION:Onlinevents via Zoom\, United Kingdom
CATEGORIES:Face-to-face Workshop,Taller Online
ATTACH;FMTTYPE=image/webp:https://www.storyarte.com/wp-content/uploads/2025/11/Sedna_20251121_427x427.webp
ORGANIZER;CN="Jennifer Ramsay":MAILTO:info@storyarte.com
END:VEVENT
END:VCALENDAR