BEGIN:VCALENDAR
VERSION:2.0
PRODID:-//Story Arte - ECPv6.15.20//NONSGML v1.0//EN
CALSCALE:GREGORIAN
METHOD:PUBLISH
X-WR-CALNAME:Story Arte
X-ORIGINAL-URL:https://www.storyarte.com
X-WR-CALDESC:Eventos para Story Arte
REFRESH-INTERVAL;VALUE=DURATION:PT1H
X-Robots-Tag:noindex
X-PUBLISHED-TTL:PT1H
BEGIN:VTIMEZONE
TZID:Europe/Madrid
BEGIN:DAYLIGHT
TZOFFSETFROM:+0100
TZOFFSETTO:+0200
TZNAME:CEST
DTSTART:20240331T010000
END:DAYLIGHT
BEGIN:STANDARD
TZOFFSETFROM:+0200
TZOFFSETTO:+0100
TZNAME:CET
DTSTART:20241027T010000
END:STANDARD
BEGIN:DAYLIGHT
TZOFFSETFROM:+0100
TZOFFSETTO:+0200
TZNAME:CEST
DTSTART:20250330T010000
END:DAYLIGHT
BEGIN:STANDARD
TZOFFSETFROM:+0200
TZOFFSETTO:+0100
TZNAME:CET
DTSTART:20251026T010000
END:STANDARD
BEGIN:DAYLIGHT
TZOFFSETFROM:+0100
TZOFFSETTO:+0200
TZNAME:CEST
DTSTART:20260329T010000
END:DAYLIGHT
BEGIN:STANDARD
TZOFFSETFROM:+0200
TZOFFSETTO:+0100
TZNAME:CET
DTSTART:20261025T010000
END:STANDARD
END:VTIMEZONE
BEGIN:VEVENT
DTSTART;TZID=Europe/Madrid:20251030T170000
DTEND;TZID=Europe/Madrid:20251030T193000
DTSTAMP:20260424T055041
CREATED:20251109T065601Z
LAST-MODIFIED:20251109T070128Z
UID:6052-1761843600-1761852600@www.storyarte.com
SUMMARY:The Witching Hour in EOI Llanes
DESCRIPTION:📍 Escuela Oficial de Idiomas de Llanes\n📅 Thursday October 30th\, 2025\n⏰ 17:00 to 19:30 CET\n🧑‍🧑‍🧒‍🧒 Adults learning English as a Foreign Language\nℹ️ We venture out at the witching hour with folklore and true stories about witches. And we reflect upon what being a witch really means. We explore the origin of the Jack O Lantern. We discover that the roots of Halloween is Samhain\, the festivity of the Celtic wheel of the year which takes us into the dark months. And we end with a symbolic ritual.
URL:https://www.storyarte.com/event/the-witching-hour-en-eoi-llanes/
LOCATION:Escuela Oficial de Idiomas de Llanes\, Calle Celso Amieva\, 13\, Llanes\, Asturias\, 33500\, Spain
CATEGORIES:Sesión de Narración Oral,Storytelling Session
ATTACH;FMTTYPE=image/webp:https://www.storyarte.com/wp-content/uploads/2025/11/The_Witching_Hour_EOI_Llanes_20251030_427x604.webp
ORGANIZER;CN="Escuela Oficial de Idiomas de Llanes":MAILTO:eoillane@educastur.org
END:VEVENT
END:VCALENDAR