BEGIN:VCALENDAR
VERSION:2.0
PRODID:-//Story Arte - ECPv6.15.20//NONSGML v1.0//EN
CALSCALE:GREGORIAN
METHOD:PUBLISH
X-WR-CALNAME:Story Arte
X-ORIGINAL-URL:https://www.storyarte.com
X-WR-CALDESC:Eventos para Story Arte
REFRESH-INTERVAL;VALUE=DURATION:PT1H
X-Robots-Tag:noindex
X-PUBLISHED-TTL:PT1H
BEGIN:VTIMEZONE
TZID:Europe/Madrid
BEGIN:DAYLIGHT
TZOFFSETFROM:+0100
TZOFFSETTO:+0200
TZNAME:CEST
DTSTART:20240331T010000
END:DAYLIGHT
BEGIN:STANDARD
TZOFFSETFROM:+0200
TZOFFSETTO:+0100
TZNAME:CET
DTSTART:20241027T010000
END:STANDARD
BEGIN:DAYLIGHT
TZOFFSETFROM:+0100
TZOFFSETTO:+0200
TZNAME:CEST
DTSTART:20250330T010000
END:DAYLIGHT
BEGIN:STANDARD
TZOFFSETFROM:+0200
TZOFFSETTO:+0100
TZNAME:CET
DTSTART:20251026T010000
END:STANDARD
BEGIN:DAYLIGHT
TZOFFSETFROM:+0100
TZOFFSETTO:+0200
TZNAME:CEST
DTSTART:20260329T010000
END:DAYLIGHT
BEGIN:STANDARD
TZOFFSETFROM:+0200
TZOFFSETTO:+0100
TZNAME:CET
DTSTART:20261025T010000
END:STANDARD
END:VTIMEZONE
BEGIN:VEVENT
DTSTART;VALUE=DATE:20251215
DTEND;VALUE=DATE:20251219
DTSTAMP:20260424T042411
CREATED:20251224T120544Z
LAST-MODIFIED:20251224T120544Z
UID:6119-1765756800-1766102399@www.storyarte.com
SUMMARY:Winter Tales Tour 2025: Tales from Around the World for Secondary education students
DESCRIPTION:📅 December 12th\, 2025\n📍 IES Luis Garcia Berlanga\, Coslada\, Madrid \n📅 December 15th\, 2025\n📍 IES Carmen Conde\, Las Rozas\, Madrid \n📅 December 15th\, 2025\n📍 IES Ramiro de Maetzu\, Madrid \n📅 December 17th and 18th\, 2025\n📍 IES Diego Velázquez\, Torrelodones\, Madrid \n🔥 In the deep mid-winter\, when the rest of nature is fast asleep\, curl up around the storytelling fire and listen to the warm tales Jennifer Ramsay shares. \n🌎 These traditional stories come from far and wide around the world waiting for this magical time of the year to share their wisdom and bring light to these dark months of the year.
URL:https://www.storyarte.com/event/winter-tales-tour-2025-tales-from-around-the-world-for-secondary-education-students/
CATEGORIES:Curso Presencial,Face-to-face Course,Sesión de Narración Oral,Storytelling Session
ATTACH;FMTTYPE=image/webp:https://www.storyarte.com/wp-content/uploads/2025/12/Winter_Tales_Tour_December2025_427x534.webp
ORGANIZER;CN="Jennifer Ramsay":MAILTO:info@storyarte.com
END:VEVENT
END:VCALENDAR